BEGIN:VCALENDAR
VERSION:2.0
PRODID:-//Dhaka School of Economics
CALSCALE:GREGORIAN
METHOD:PUBLISH
X-WR-CALNAME:Dhaka School of Economics
X-ORIGINAL-URL:https://www.dsce.edu.bd/event/condolence-at-the-death-of-mamun-ur-rashid-khan/
X-WR-CALDESC:Condolence at the death of Mamun-ur Rashid Khan
BEGIN:VEVENT
DTSTART:20160705T130000
DTEND:20160705T203000
SUMMARY:Condolence at the death of Mamun-ur Rashid Khan
DESCRIPTION:
LOCATION:
END:VEVENT
END:VCALENDAR
