BEGIN:VCALENDAR
VERSION:2.0
PRODID:-//Dhaka School of Economics
CALSCALE:GREGORIAN
METHOD:PUBLISH
X-WR-CALNAME:Dhaka School of Economics
X-ORIGINAL-URL:https://www.dsce.edu.bd/event/seminar-on-building-quality/
X-WR-CALDESC:Seminar on &#8220;Building Quality in Higher Education&#8221;
BEGIN:VEVENT
DTSTART:20160323T153000
DTEND:20160323T183000
SUMMARY:Seminar on &#8220;Building Quality in Higher Education&#8221;
DESCRIPTION:
LOCATION:Auditorium, Dhaka School of Economics (DScE), 4/C Eskaton Garden Road, Dhaka-1000.
END:VEVENT
END:VCALENDAR
