BEGIN:VCALENDAR
VERSION:2.0
PRODID:-//Dhaka School of Economics
CALSCALE:GREGORIAN
METHOD:PUBLISH
X-WR-CALNAME:Dhaka School of Economics
X-ORIGINAL-URL:https://www.dsce.edu.bd/event/seminar-on-climate-induced-migration-in-bangladesh/
X-WR-CALDESC:Seminar on &#8220;Climate-Induced Migration in Bangladesh&#8221;
BEGIN:VEVENT
DTSTART:20160114T150000
DTEND:20160114T183000
SUMMARY:Seminar on &#8220;Climate-Induced Migration in Bangladesh&#8221;
DESCRIPTION:
LOCATION:Palli Karma-Sahayak Foundation (PKSF), E-4/B, Agargaon Administrative Area, Sher-e-Bangla Nagar, Dhaka-1207.
END:VEVENT
END:VCALENDAR
