BEGIN:VCALENDAR
VERSION:2.0
PRODID:-//Dhaka School of Economics
CALSCALE:GREGORIAN
METHOD:PUBLISH
X-WR-CALNAME:Dhaka School of Economics
X-ORIGINAL-URL:https://www.dsce.edu.bd/event/discussion-on-inter-linkages-between-social-science-research-and-policy-making/
X-WR-CALDESC:Discussion on &#8220;Inter-Linkages Between Social Science Research and Policy Making&#8221;
BEGIN:VEVENT
DTSTART:20160103T100000
DTEND:20160103T123000
SUMMARY:Discussion on &#8220;Inter-Linkages Between Social Science Research and Policy Making&#8221;
DESCRIPTION:
LOCATION:Room 604, Level- 5, Dhaka School of Economics, BEA Bhaban, 4/C Eskaton Garden Road, Dhaka-1000
END:VEVENT
END:VCALENDAR
