BEGIN:VCALENDAR
VERSION:2.0
PRODID:-//Dhaka School of Economics
CALSCALE:GREGORIAN
METHOD:PUBLISH
X-WR-CALNAME:Dhaka School of Economics
X-ORIGINAL-URL:https://www.dsce.edu.bd/event/seminar-on-revisiting-human-development-concepts-and-measurements/
X-WR-CALDESC:Seminar on &#8220;Revisiting Human Development: Concepts and Measurements&#8221;
BEGIN:VEVENT
DTSTART:20151222T100000
DTEND:20151222T100000
SUMMARY:Seminar on &#8220;Revisiting Human Development: Concepts and Measurements&#8221;
DESCRIPTION:
LOCATION:Palli Karma-Sahayak Foundation, Conference Hall, Agargao, Dhaka-1207
END:VEVENT
END:VCALENDAR
