BEGIN:VCALENDAR
VERSION:2.0
PRODID:-//Dhaka School of Economics
CALSCALE:GREGORIAN
METHOD:PUBLISH
X-WR-CALNAME:Dhaka School of Economics
X-ORIGINAL-URL:https://www.dsce.edu.bd/event/community-participation-and-valuation-of-forest-ecosystem/
X-WR-CALDESC:Seminar: Community participation and valuation of forest ecosystem
BEGIN:VEVENT
DTSTART:20150816T150000
DTEND:20150816T170000
SUMMARY:Seminar: Community participation and valuation of forest ecosystem
DESCRIPTION:
LOCATION:Bangladesh Economic Association, 4/C Eskaton Garden, Dhaka, Dhaka Division
END:VEVENT
END:VCALENDAR
