BEGIN:VCALENDAR
VERSION:2.0
PRODID:-//Dhaka School of Economics
CALSCALE:GREGORIAN
METHOD:PUBLISH
X-WR-CALNAME:Dhaka School of Economics
X-ORIGINAL-URL:https://www.dsce.edu.bd/event/condolence-at-the-death-of-syed-ataur-rahman/
X-WR-CALDESC:Condolence at the death of Syed Ataur Rahman
BEGIN:VEVENT
DTSTART:20150425T200000
DTEND:20150425T200000
SUMMARY:Condolence at the death of Syed Ataur Rahman
DESCRIPTION:
LOCATION:
END:VEVENT
END:VCALENDAR
