BEGIN:VCALENDAR
VERSION:2.0
PRODID:-//Dhaka School of Economics
CALSCALE:GREGORIAN
METHOD:PUBLISH
X-WR-CALNAME:Dhaka School of Economics
X-ORIGINAL-URL:https://www.dsce.edu.bd/event/seminar-on-national-environment-policy-1992/
X-WR-CALDESC:Seminar on &#8220;National Environment Policy 1992&#8221;
BEGIN:VEVENT
DTSTART:20170415T150000
DTEND:20170415T190000
SUMMARY:Seminar on &#8220;National Environment Policy 1992&#8221;
DESCRIPTION:
LOCATION:Dhaka School of Economics, 4/C Eskaton Garden Road, Dhaka 1000.
END:VEVENT
END:VCALENDAR
