BEGIN:VCALENDAR
VERSION:2.0
PRODID:-//Dhaka School of Economics
CALSCALE:GREGORIAN
METHOD:PUBLISH
X-WR-CALNAME:Dhaka School of Economics
X-ORIGINAL-URL:https://www.dsce.edu.bd/event/seminar-on-sustainability-of-firm-managers-in-economic-preferences/
X-WR-CALDESC:Seminar on &#8220;Sustainability of Firm Managers in Economic preferences&#8221;.
BEGIN:VEVENT
DTSTART:20170110T030000
DTEND:20170110T050000
SUMMARY:Seminar on &#8220;Sustainability of Firm Managers in Economic preferences&#8221;.
DESCRIPTION:
LOCATION:Dhaka School of Economics, 4/C Eskaton Garden Road, Dhaka
END:VEVENT
END:VCALENDAR
