BEGIN:VCALENDAR
VERSION:2.0
PRODID:-//Dhaka School of Economics
CALSCALE:GREGORIAN
METHOD:PUBLISH
X-WR-CALNAME:Dhaka School of Economics
X-ORIGINAL-URL:https://www.dsce.edu.bd/event/seminar-on-changes-in-international-economics-due-to-brexit-and-us/
X-WR-CALDESC:Seminar on &#8220;Changes in International Economics  due to BREXIT and US&#8221;.
BEGIN:VEVENT
DTSTART:20170214T020000
DTEND:20170214T060000
SUMMARY:Seminar on &#8220;Changes in International Economics  due to BREXIT and US&#8221;.
DESCRIPTION:
LOCATION:Dhaka School of Economics, 4/C Eskaton Garden Road, Dhaka
END:VEVENT
END:VCALENDAR
