BEGIN:VCALENDAR
VERSION:2.0
PRODID:-//Dhaka School of Economics
CALSCALE:GREGORIAN
METHOD:PUBLISH
X-WR-CALNAME:Dhaka School of Economics
X-ORIGINAL-URL:https://www.dsce.edu.bd/event/a-new-book-of-dr-kholiquzzaman-sustainable-development-and-all-that/
X-WR-CALDESC:A new book of Dr. Kholiquzzaman &#8220;Sustainable Development and All That&#8221;
BEGIN:VEVENT
DTSTART:20161215T140000
DTEND:20161215T150000
SUMMARY:A new book of Dr. Kholiquzzaman &#8220;Sustainable Development and All That&#8221;
DESCRIPTION:New publication of QK Ahmad
LOCATION:
END:VEVENT
END:VCALENDAR
