BEGIN:VCALENDAR
VERSION:2.0
PRODID:-//Dhaka School of Economics
CALSCALE:GREGORIAN
METHOD:PUBLISH
X-WR-CALNAME:Dhaka School of Economics
X-ORIGINAL-URL:https://www.dsce.edu.bd/event/seminar-on-tariff-structure-and-allocation-of-national-budget/
X-WR-CALDESC:Seminar on &#8220;Tariff structure and allocation of national budget&#8221;
BEGIN:VEVENT
DTSTART:20170506T150000
DTEND:20170506T180000
SUMMARY:Seminar on &#8220;Tariff structure and allocation of national budget&#8221;
DESCRIPTION:
LOCATION:Dhaka School of Economics, 4/C Eskaton Garden Road, Dhaka
END:VEVENT
END:VCALENDAR
