BEGIN:VCALENDAR
VERSION:2.0
PRODID:-//Dhaka School of Economics
CALSCALE:GREGORIAN
METHOD:PUBLISH
X-WR-CALNAME:Dhaka School of Economics
X-ORIGINAL-URL:https://www.dsce.edu.bd/event/seminar-on-performance-appraisal-and-performance-budget-in-pged/
X-WR-CALDESC:Seminar on Performance appraisal and budget in PGED
BEGIN:VEVENT
DTSTART:20170527T163000
DTEND:20170527T054500
SUMMARY:Seminar on Performance appraisal and budget in PGED
DESCRIPTION:Seminar on Performance appraisal and budget in PGED
LOCATION:
END:VEVENT
END:VCALENDAR
