BEGIN:VCALENDAR
VERSION:2.0
PRODID:-//Dhaka School of Economics
CALSCALE:GREGORIAN
METHOD:PUBLISH
X-WR-CALNAME:Dhaka School of Economics
X-ORIGINAL-URL:https://www.dsce.edu.bd/event/seminar-on-project-planning-analysis-and-management/
X-WR-CALDESC:Seminar on &#8216;Project Planning, Analysis and Management&#8217;
BEGIN:VEVENT
DTSTART:20170527T150000
DTEND:20170527T170000
SUMMARY:Seminar on &#8216;Project Planning, Analysis and Management&#8217;
DESCRIPTION:A seminar on "Project Planning, Analysis and Management” was organized by Dhaka School of Economics
LOCATION:Dhaka School of Economics, 4/C Eskaton Garden Road, Dhaka
END:VEVENT
END:VCALENDAR
