BEGIN:VCALENDAR
VERSION:2.0
PRODID:-//Dhaka School of Economics
CALSCALE:GREGORIAN
METHOD:PUBLISH
X-WR-CALNAME:Dhaka School of Economics
X-ORIGINAL-URL:https://www.dsce.edu.bd/event/newspapers-published-news-on-dsces-seminar/
X-WR-CALDESC:Newspapers published news on DScE&#8217;s seminar
BEGIN:VEVENT
DTSTART:20170527T140000
DTEND:20170527T193000
SUMMARY:Newspapers published news on DScE&#8217;s seminar
DESCRIPTION:DScE organized a seminar entitled “Project Management"
LOCATION:4/C Eskaton Garden Road, Dhaka1000
END:VEVENT
END:VCALENDAR
