BEGIN:VCALENDAR
VERSION:2.0
PRODID:-//Dhaka School of Economics
CALSCALE:GREGORIAN
METHOD:PUBLISH
X-WR-CALNAME:Dhaka School of Economics
X-ORIGINAL-URL:https://www.dsce.edu.bd/event/journal-on-environment/
X-WR-CALDESC:Journal on Environment and Development
BEGIN:VEVENT
DTSTART:20131201T000000
DTEND:20170930T000000
SUMMARY:Journal on Environment and Development
DESCRIPTION:Call for Articles: The Asia Pacific Journal on Environment and Development (Print ISSN 1023-7895) is a refereed international journal published by Bangladesh Unnayan Parishad (BUP) Dhaka since 1994. Under the new arrangement, Dhaka School of Economics (DScE) in association with BUP publishes the journals twice in a year since December 2013.
LOCATION:Dhaka School of Economics, 4/C Eskaton Garden Road, Dhaka 1000
END:VEVENT
END:VCALENDAR
