BEGIN:VCALENDAR
VERSION:2.0
PRODID:-//Dhaka School of Economics
CALSCALE:GREGORIAN
METHOD:PUBLISH
X-WR-CALNAME:Dhaka School of Economics
X-ORIGINAL-URL:https://www.dsce.edu.bd/event/daily-stars-news-on-diploma-in-enterprise-development/
X-WR-CALDESC:Newspapers news on Diploma in Enterprise Dev.
BEGIN:VEVENT
DTSTART:20171026T000000
DTEND:20171026T000000
SUMMARY:Newspapers news on Diploma in Enterprise Dev.
DESCRIPTION:Daily Star's publishes a news on Post Graduate Diploma in Enterprise Development at Business Page on October 26, 2017. 
LOCATION:4/C Eskaton Garden Road, Dhaka 1000
END:VEVENT
END:VCALENDAR
