BEGIN:VCALENDAR
VERSION:2.0
PRODID:-//Dhaka School of Economics
CALSCALE:GREGORIAN
METHOD:PUBLISH
X-WR-CALNAME:Dhaka School of Economics
X-ORIGINAL-URL:https://www.dsce.edu.bd/event/conference-on-equity-with-growth/
X-WR-CALDESC:Call for Papers: Conference on &#8216;EQUITY WITH GROWTH&#8217;
BEGIN:VEVENT
DTSTART:20171221T000000
DTEND:20171226T000000
SUMMARY:Call for Papers: Conference on &#8216;EQUITY WITH GROWTH&#8217;
DESCRIPTION:DScE, PKSF and ERF jointly organizing a conference on “EQUITY WITH GROWTH“ on 9th Jan 2018.
Dr. Qazi Kholiquzzaman Ahmad will lead the conference. Topics of the conference are: Environment, Development and Entrepreneurship. 
LOCATION:4/C Eskaton Garden Road, Dhaka 1000
END:VEVENT
END:VCALENDAR
