BEGIN:VCALENDAR
VERSION:2.0
PRODID:-//Dhaka School of Economics
CALSCALE:GREGORIAN
METHOD:PUBLISH
X-WR-CALNAME:Dhaka School of Economics
X-ORIGINAL-URL:https://www.dsce.edu.bd/event/budget-olympiad-2017/
X-WR-CALDESC:Budget Olympiad 2017
BEGIN:VEVENT
DTSTART:20171229T100000
DTEND:20171229T170000
SUMMARY:Budget Olympiad 2017
DESCRIPTION:DScE faculty Dr. Nazrul participated as a Judge in 'Budget Olympiad 2017' held on December 13, 2017. 
LOCATION:Muzaffar Ahmed Chowdhury Auditorium, University of Dhaka, Ramna, Dhaka
END:VEVENT
END:VCALENDAR
