BEGIN:VCALENDAR
VERSION:2.0
PRODID:-//Dhaka School of Economics
CALSCALE:GREGORIAN
METHOD:PUBLISH
X-WR-CALNAME:Dhaka School of Economics
X-ORIGINAL-URL:https://www.dsce.edu.bd/event/special-talk-on-netprenrureship-by-pgded-students/
X-WR-CALDESC:Special Talk on &#8216;Netprenrureship&#8217; by PGDED
BEGIN:VEVENT
DTSTART:20171220T130000
DTEND:20171220T170000
SUMMARY:Special Talk on &#8216;Netprenrureship&#8217; by PGDED
DESCRIPTION:Special Talk arranged for students of 2nd Batch PGDED Program on “Entrepreneurship, Netprenrureship and Need for Business Incubator” 
LOCATION:Dhaka School of Economics, 4/C Eskaton Garden Road, Dhaka
END:VEVENT
END:VCALENDAR
