BEGIN:VCALENDAR
VERSION:2.0
PRODID:-//Dhaka School of Economics
CALSCALE:GREGORIAN
METHOD:PUBLISH
X-WR-CALNAME:Dhaka School of Economics
X-ORIGINAL-URL:https://www.dsce.edu.bd/event/conference-on-growth-bangladesh/
X-WR-CALDESC:Conference On Growth with Equity: Bangladesh
BEGIN:VEVENT
DTSTART:20180109T090000
DTEND:20180109T173000
SUMMARY:Conference On Growth with Equity: Bangladesh
DESCRIPTION:A conference on “Growth with Equity” will be jointly organized by Dhaka School of Economics (DScE), Constituent Institution of University of Dhaka and Palli Karma- Sahayak Foundation (PKSF) on 09th January, 2018. 
LOCATION:Palli Karma-Sahayak Foundation, Agargaon, Dhaka 1207
END:VEVENT
END:VCALENDAR
