BEGIN:VCALENDAR
VERSION:2.0
PRODID:-//Dhaka School of Economics
CALSCALE:GREGORIAN
METHOD:PUBLISH
X-WR-CALNAME:Dhaka School of Economics
X-ORIGINAL-URL:https://www.dsce.edu.bd/event/conference-on-growth-with-equity/
X-WR-CALDESC:Conference: Growth with Equity (News)
BEGIN:VEVENT
DTSTART:20180109T000000
DTEND:20180109T000000
SUMMARY:Conference: Growth with Equity (News)
DESCRIPTION:
LOCATION:Palli Karma Shahayak Foundation, Dhaka
END:VEVENT
END:VCALENDAR
