BEGIN:VCALENDAR
VERSION:2.0
PRODID:-//Dhaka School of Economics
CALSCALE:GREGORIAN
METHOD:PUBLISH
X-WR-CALNAME:Dhaka School of Economics
X-ORIGINAL-URL:https://www.dsce.edu.bd/event/book-on-environment-climate-change-and-water-resources/
X-WR-CALDESC:Book on Environment, Climate Change and Water Resources
BEGIN:VEVENT
DTSTART:20180220T000000
DTEND:20180220T000000
SUMMARY:Book on Environment, Climate Change and Water Resources
DESCRIPTION:
LOCATION:
END:VEVENT
END:VCALENDAR
