BEGIN:VCALENDAR
VERSION:2.0
PRODID:-//Dhaka School of Economics
CALSCALE:GREGORIAN
METHOD:PUBLISH
X-WR-CALNAME:Dhaka School of Economics
X-ORIGINAL-URL:https://www.dsce.edu.bd/event/enterpreneurship-economics-newscover/
X-WR-CALDESC:Entrepreneurship Economics program started (News Cover)
BEGIN:VEVENT
DTSTART:20180501T000000
DTEND:20180502T000000
SUMMARY:Entrepreneurship Economics program started (News Cover)
DESCRIPTION:
LOCATION:
END:VEVENT
END:VCALENDAR
