BEGIN:VCALENDAR
VERSION:2.0
PRODID:-//Dhaka School of Economics
CALSCALE:GREGORIAN
METHOD:PUBLISH
X-WR-CALNAME:Dhaka School of Economics
X-ORIGINAL-URL:https://www.dsce.edu.bd/event/lecture-poverty/
X-WR-CALDESC:Dr. Ahmad&#8217;s lecture on &#8220;Poverty, Environment, and Enterprise&#8221; (News Cover)
BEGIN:VEVENT
DTSTART:20180526T000000
DTEND:20180526T000000
SUMMARY:Dr. Ahmad&#8217;s lecture on &#8220;Poverty, Environment, and Enterprise&#8221; (News Cover)
DESCRIPTION:
LOCATION:
END:VEVENT
END:VCALENDAR
