BEGIN:VCALENDAR
VERSION:2.0
PRODID:-//Dhaka School of Economics
CALSCALE:GREGORIAN
METHOD:PUBLISH
X-WR-CALNAME:Dhaka School of Economics
X-ORIGINAL-URL:https://www.dsce.edu.bd/event/33rd-saarc-charter-day/
X-WR-CALDESC:33rd SAARC Charter Day celebrated by DScE
BEGIN:VEVENT
DTSTART:20180605T000000
DTEND:20180605T000000
SUMMARY:33rd SAARC Charter Day celebrated by DScE
DESCRIPTION:
LOCATION:
END:VEVENT
END:VCALENDAR
