BEGIN:VCALENDAR
VERSION:2.0
PRODID:-//Dhaka School of Economics
CALSCALE:GREGORIAN
METHOD:PUBLISH
X-WR-CALNAME:Dhaka School of Economics
X-ORIGINAL-URL:https://www.dsce.edu.bd/event/case-study-competition-on-entrepreneurial-economics/
X-WR-CALDESC:Competition: Case study on Entrepreneurial Economics
BEGIN:VEVENT
DTSTART:20180710T110000
DTEND:20180710T170000
SUMMARY:Competition: Case study on Entrepreneurial Economics
DESCRIPTION:DScE arranged a case study competition on entrepreneurial economics in national level on July 10. 
LOCATION:
END:VEVENT
END:VCALENDAR
