BEGIN:VCALENDAR
VERSION:2.0
PRODID:-//Dhaka School of Economics
CALSCALE:GREGORIAN
METHOD:PUBLISH
X-WR-CALNAME:Dhaka School of Economics
X-ORIGINAL-URL:https://www.dsce.edu.bd/event/workshop-on-entrepreneurial-economics-employability/
X-WR-CALDESC:Workshop on Entrepreneurial Economics Employability
BEGIN:VEVENT
DTSTART:20180714T110000
DTEND:20180714T160000
SUMMARY:Workshop on Entrepreneurial Economics Employability
DESCRIPTION:
LOCATION:4/C Eskaton Garden Road, Ramna, Dhaka 1000
END:VEVENT
END:VCALENDAR
