BEGIN:VCALENDAR
VERSION:2.0
PRODID:-//Dhaka School of Economics
CALSCALE:GREGORIAN
METHOD:PUBLISH
X-WR-CALNAME:Dhaka School of Economics
X-ORIGINAL-URL:https://www.dsce.edu.bd/event/seminar-on-entrepreneurial-spirit-and-employability-skill/
X-WR-CALDESC:Seminar on &#8216;Entrepreneurial Spirit and Employability Skill&#8217;
BEGIN:VEVENT
DTSTART:20180813T150000
DTEND:20180813T180000
SUMMARY:Seminar on &#8216;Entrepreneurial Spirit and Employability Skill&#8217;
DESCRIPTION:DScE organized a seminar, titled 'To Build Entrepreneurial Spirit and Employability Skill' and inaugural ceremony of 'Model of Economic Incubator'
LOCATION:
END:VEVENT
END:VCALENDAR
