BEGIN:VCALENDAR
VERSION:2.0
PRODID:-//Dhaka School of Economics
CALSCALE:GREGORIAN
METHOD:PUBLISH
X-WR-CALNAME:Dhaka School of Economics
X-ORIGINAL-URL:https://www.dsce.edu.bd/event/dsce-remembers-father-of-the-nation/
X-WR-CALDESC:DScE remembers Father of the Nation
BEGIN:VEVENT
DTSTART:20180815T143000
DTEND:
SUMMARY:DScE remembers Father of the Nation
DESCRIPTION:
LOCATION:
END:VEVENT
END:VCALENDAR
