BEGIN:VCALENDAR
VERSION:2.0
PRODID:-//Dhaka School of Economics
CALSCALE:GREGORIAN
METHOD:PUBLISH
X-WR-CALNAME:Dhaka School of Economics
X-ORIGINAL-URL:https://www.dsce.edu.bd/event/seminar-varying-function-of-banks-in-entrepreneurship/
X-WR-CALDESC:Seminar: Varying function of banks in entrepreneurship
BEGIN:VEVENT
DTSTART:20180908T000000
DTEND:
SUMMARY:Seminar: Varying function of banks in entrepreneurship
DESCRIPTION:
LOCATION:4/C Eskaton Garden Road, Ramna, Dhaka
END:VEVENT
END:VCALENDAR
