BEGIN:VCALENDAR
VERSION:2.0
PRODID:-//Dhaka School of Economics
CALSCALE:GREGORIAN
METHOD:PUBLISH
X-WR-CALNAME:Dhaka School of Economics
X-ORIGINAL-URL:https://www.dsce.edu.bd/event/seminar-on-real-life-experience/
X-WR-CALDESC:Seminar on Real Life Experience at DScE
BEGIN:VEVENT
DTSTART:20180929T140000
DTEND:20180929T190000
SUMMARY:Seminar on Real Life Experience at DScE
DESCRIPTION:Seminar on "Sharing Real Life Experience of a Successful Entrepreneurial Venture: Hossain Khaled
LOCATION:
END:VEVENT
END:VCALENDAR
