BEGIN:VCALENDAR
VERSION:2.0
PRODID:-//Dhaka School of Economics
CALSCALE:GREGORIAN
METHOD:PUBLISH
X-WR-CALNAME:Dhaka School of Economics
X-ORIGINAL-URL:https://www.dsce.edu.bd/event/public-lecture-on-economics-at-dsce/
X-WR-CALDESC:Public lecture on  SDGs and Entrepreneurship Economics
BEGIN:VEVENT
DTSTART:20181118T000000
DTEND:
SUMMARY:Public lecture on  SDGs and Entrepreneurship Economics
DESCRIPTION:Dhaka School of Economics (DScE) organized public lecture on SDGs and Entrepreneurship Economics' on 18th Nov 2018. Dr Qazi Kholiquzzaman Ahmad, chairman, governing council, spoke on this occasion as a chief guest. 
LOCATION:
END:VEVENT
END:VCALENDAR
