BEGIN:VCALENDAR
VERSION:2.0
PRODID:-//Dhaka School of Economics
CALSCALE:GREGORIAN
METHOD:PUBLISH
X-WR-CALNAME:Dhaka School of Economics
X-ORIGINAL-URL:https://www.dsce.edu.bd/event/press-conference-on-higher-education-at-specialized-economics-field/
X-WR-CALDESC:Press release on “Higher education at Economics”
BEGIN:VEVENT
DTSTART:20181210T000000
DTEND:
SUMMARY:Press release on “Higher education at Economics”
DESCRIPTION:Press release on “Higher education at Specialized Economics Field” 
LOCATION:
END:VEVENT
END:VCALENDAR
