BEGIN:VCALENDAR
VERSION:2.0
PRODID:-//Dhaka School of Economics
CALSCALE:GREGORIAN
METHOD:PUBLISH
X-WR-CALNAME:Dhaka School of Economics
X-ORIGINAL-URL:https://www.dsce.edu.bd/event/workshop-on-entrepreneurship-in-murshidabad-india/
X-WR-CALDESC:Workshop on Entrepreneurship in India
BEGIN:VEVENT
DTSTART:20181109T000000
DTEND:20181110T000000
SUMMARY:Workshop on Entrepreneurship in India
DESCRIPTION:Workshop on Entrepreneurship in Murshidabad Development Institute, India
LOCATION:
END:VEVENT
END:VCALENDAR
