BEGIN:VCALENDAR
VERSION:2.0
PRODID:-//Dhaka School of Economics
CALSCALE:GREGORIAN
METHOD:PUBLISH
X-WR-CALNAME:Dhaka School of Economics
X-ORIGINAL-URL:https://www.dsce.edu.bd/event/seminar-on-entrepreneurial-finance-csr-held-at-dsce/
X-WR-CALDESC:Seminar on entrepreneurial finance, CSR held at DScE
BEGIN:VEVENT
DTSTART:20181222T000000
DTEND:
SUMMARY:Seminar on entrepreneurial finance, CSR held at DScE
DESCRIPTION:A seminar on access to entrepreneurial finance from banking sector and SDGs as well as corporate social responsibilities (CSR) held for experienced and young professionals.
LOCATION:
END:VEVENT
END:VCALENDAR
