BEGIN:VCALENDAR
VERSION:2.0
PRODID:-//Dhaka School of Economics
CALSCALE:GREGORIAN
METHOD:PUBLISH
X-WR-CALNAME:Dhaka School of Economics
X-ORIGINAL-URL:https://www.dsce.edu.bd/event/pksf-dsce-jointly-organized-conference-on-growth-with-equity/
X-WR-CALDESC:Conference on &#8216;Growth with Equity&#8217;
BEGIN:VEVENT
DTSTART:20190110T000000
DTEND:
SUMMARY:Conference on &#8216;Growth with Equity&#8217;
DESCRIPTION:A day-long conference titled "Growth with Equity"
LOCATION:
END:VEVENT
END:VCALENDAR
