BEGIN:VCALENDAR
VERSION:2.0
PRODID:-//Dhaka School of Economics
CALSCALE:GREGORIAN
METHOD:PUBLISH
X-WR-CALNAME:Dhaka School of Economics
X-ORIGINAL-URL:https://www.dsce.edu.bd/event/1st-intl-enterpreneurship-expo-summit-at-dsce/
X-WR-CALDESC:1st Int&#8217;l Entrepreneurship Expo, Summit at DScE
BEGIN:VEVENT
DTSTART:20190118T000000
DTEND:20190119T000000
SUMMARY:1st Int&#8217;l Entrepreneurship Expo, Summit at DScE
DESCRIPTION:Dhaka School of Economics (DScE) is set to organise a two-day exposition titled “International Entrepreneurial Expo and Summit-2019” on 18 and 19 January, 2019, on the premises of the institute at Eskaton Garden Road in Dhaka.  
LOCATION:
END:VEVENT
END:VCALENDAR
