BEGIN:VCALENDAR
VERSION:2.0
PRODID:-//Dhaka School of Economics
CALSCALE:GREGORIAN
METHOD:PUBLISH
X-WR-CALNAME:Dhaka School of Economics
X-ORIGINAL-URL:https://www.dsce.edu.bd/event/conference-employment-1902/
X-WR-CALDESC:Round table conference at DScE
BEGIN:VEVENT
DTSTART:20190209T000000
DTEND:
SUMMARY:Round table conference at DScE
DESCRIPTION:Dhaka School of Economics (DScE)’s Entrepreneurial Economists Club arranged round table conference on “Internationalization of Entrepreneurship for Employment” on Saturday. 
LOCATION:Dhaka School of Economics
END:VEVENT
END:VCALENDAR
