BEGIN:VCALENDAR
VERSION:2.0
PRODID:-//Dhaka School of Economics
CALSCALE:GREGORIAN
METHOD:PUBLISH
X-WR-CALNAME:Dhaka School of Economics
X-ORIGINAL-URL:https://www.dsce.edu.bd/event/publication-ceremony-on-entrepreneurial-economics/
X-WR-CALDESC:Publication ceremony on Entrepreneurial Economics
BEGIN:VEVENT
DTSTART:
DTEND:
SUMMARY:Publication ceremony on Entrepreneurial Economics
DESCRIPTION:
LOCATION:
END:VEVENT
END:VCALENDAR
