BEGIN:VCALENDAR
VERSION:2.0
PRODID:-//Dhaka School of Economics
CALSCALE:GREGORIAN
METHOD:PUBLISH
X-WR-CALNAME:Dhaka School of Economics
X-ORIGINAL-URL:https://www.dsce.edu.bd/event/heartiest-congratulations-to-dr-qazi-kholiquzzaman-ahmad/
X-WR-CALDESC:Heartiest congratulations to Dr. Kholiquzzaman
BEGIN:VEVENT
DTSTART:
DTEND:
SUMMARY:Heartiest congratulations to Dr. Kholiquzzaman
DESCRIPTION:Independence Award -2019.
LOCATION:
END:VEVENT
END:VCALENDAR
