BEGIN:VCALENDAR
VERSION:2.0
PRODID:-//Dhaka School of Economics
CALSCALE:GREGORIAN
METHOD:PUBLISH
X-WR-CALNAME:Dhaka School of Economics
X-ORIGINAL-URL:https://www.dsce.edu.bd/event/environmental-and-resource-economics-an-article-written-on-daily-sun/
X-WR-CALDESC:News on &#8220;Environmental and Resource Economics&#8221;
BEGIN:VEVENT
DTSTART:20190324T000000
DTEND:
SUMMARY:News on &#8220;Environmental and Resource Economics&#8221;
DESCRIPTION:
LOCATION:
END:VEVENT
END:VCALENDAR
