BEGIN:VCALENDAR
VERSION:2.0
PRODID:-//Dhaka School of Economics
CALSCALE:GREGORIAN
METHOD:PUBLISH
X-WR-CALNAME:Dhaka School of Economics
X-ORIGINAL-URL:https://www.dsce.edu.bd/event/dr-kholiquzzaman-received-independence-award/
X-WR-CALDESC:Dr. Kholiquzzaman received &#8216;Independence Award&#8217;
BEGIN:VEVENT
DTSTART:20190325T000000
DTEND:
SUMMARY:Dr. Kholiquzzaman received &#8216;Independence Award&#8217;
DESCRIPTION:
LOCATION:
END:VEVENT
END:VCALENDAR
