BEGIN:VCALENDAR
VERSION:2.0
PRODID:-//Dhaka School of Economics
CALSCALE:GREGORIAN
METHOD:PUBLISH
X-WR-CALNAME:Dhaka School of Economics
X-ORIGINAL-URL:https://www.dsce.edu.bd/event/dsce-organizes-award-reception-ceremony-for-chirman/
X-WR-CALDESC:DScE Gave Reception to Chairman
BEGIN:VEVENT
DTSTART:20190330T000000
DTEND:
SUMMARY:DScE Gave Reception to Chairman
DESCRIPTION:
LOCATION:National Academy for Educational Management, Naem Road, Dhaka
END:VEVENT
END:VCALENDAR
