BEGIN:VCALENDAR
VERSION:2.0
PRODID:-//Dhaka School of Economics
CALSCALE:GREGORIAN
METHOD:PUBLISH
X-WR-CALNAME:Dhaka School of Economics
X-ORIGINAL-URL:https://www.dsce.edu.bd/event/earth-festival-2019/
X-WR-CALDESC:Earth Festival 2019
BEGIN:VEVENT
DTSTART:20190502T000000
DTEND:
SUMMARY:Earth Festival 2019
DESCRIPTION:Protect our species, protect our earth!
LOCATION:RC Mojumder Arts Auditorium, University of Dhaka
END:VEVENT
END:VCALENDAR
