BEGIN:VCALENDAR
VERSION:2.0
PRODID:-//Dhaka School of Economics
CALSCALE:GREGORIAN
METHOD:PUBLISH
X-WR-CALNAME:Dhaka School of Economics
X-ORIGINAL-URL:https://www.dsce.edu.bd/event/news-on-banking-and-insurance-procedures/
X-WR-CALDESC:News on &#8220;Banking and Insurance Procedures&#8221;
BEGIN:VEVENT
DTSTART:20191003T000000
DTEND:20191003T000000
SUMMARY:News on &#8220;Banking and Insurance Procedures&#8221;
DESCRIPTION:Dhaka School of Economics (DScE) organized the seminar titled “Banking and Insurance Procedures and Hindrance for Entrepreneurial Economics Growth” at its seminar room, said a press release on Sunday.
LOCATION:
END:VEVENT
END:VCALENDAR
