BEGIN:VCALENDAR
VERSION:2.0
PRODID:-//Dhaka School of Economics
CALSCALE:GREGORIAN
METHOD:PUBLISH
X-WR-CALNAME:Dhaka School of Economics
X-ORIGINAL-URL:https://www.dsce.edu.bd/event/news-on-international-entrepreneurship-expo-2nd/
X-WR-CALDESC:News on International Entrepreneurship Expo (2nd)
BEGIN:VEVENT
DTSTART:20191004T000000
DTEND:20191004T000000
SUMMARY:News on International Entrepreneurship Expo (2nd)
DESCRIPTION:
LOCATION:
END:VEVENT
END:VCALENDAR
