BEGIN:VCALENDAR
VERSION:2.0
PRODID:-//Dhaka School of Economics
CALSCALE:GREGORIAN
METHOD:PUBLISH
X-WR-CALNAME:Dhaka School of Economics
X-ORIGINAL-URL:https://www.dsce.edu.bd/event/news-admission-on-entrepreneurship/
X-WR-CALDESC:News on Entrepreneurship
BEGIN:VEVENT
DTSTART:20191014T000000
DTEND:20191022T000000
SUMMARY:News on Entrepreneurship
DESCRIPTION:Admission going on for Master and Bachelor on Entrepreneurship Economics
LOCATION:
END:VEVENT
END:VCALENDAR
