BEGIN:VCALENDAR
VERSION:2.0
PRODID:-//Dhaka School of Economics
CALSCALE:GREGORIAN
METHOD:PUBLISH
X-WR-CALNAME:Dhaka School of Economics
X-ORIGINAL-URL:https://www.dsce.edu.bd/event/admission-becon-in-development-economics/
X-WR-CALDESC:Admission: BEcon in Development Economics
BEGIN:VEVENT
DTSTART:20191020T000000
DTEND:20191125T000000
SUMMARY:Admission: BEcon in Development Economics
DESCRIPTION:Admission going on 'Bachelor of Economics (BEcon.) in Development Economics' [Session: 2019-20].
LOCATION:
END:VEVENT
END:VCALENDAR
