BEGIN:VCALENDAR
VERSION:2.0
PRODID:-//Dhaka School of Economics
CALSCALE:GREGORIAN
METHOD:PUBLISH
X-WR-CALNAME:Dhaka School of Economics
X-ORIGINAL-URL:https://www.dsce.edu.bd/event/news-on-entrepreneurial-economics/
X-WR-CALDESC:News on &#8216;Entrepreneurial Economics&#8217;
BEGIN:VEVENT
DTSTART:20191025T000000
DTEND:20191025T000000
SUMMARY:News on &#8216;Entrepreneurial Economics&#8217;
DESCRIPTION:"Entrepreneurial Economics programme of DScE: A new education pathway" news published by The Daily Observer on Friday, 25 October, 2019.
LOCATION:
END:VEVENT
END:VCALENDAR
